BEGIN:VCALENDAR
VERSION:2.0
PRODID:-//Ramakrishna Vivekanand Vidya Mandir - ECPv5.4.0.1//NONSGML v1.0//EN
CALSCALE:GREGORIAN
METHOD:PUBLISH
X-WR-CALNAME:Ramakrishna Vivekanand Vidya Mandir
X-ORIGINAL-URL:https://rkvvidyamandir.org
X-WR-CALDESC:Events for Ramakrishna Vivekanand Vidya Mandir
BEGIN:VTIMEZONE
TZID:UTC
BEGIN:STANDARD
TZOFFSETFROM:+0000
TZOFFSETTO:+0000
TZNAME:UTC
DTSTART:20210101T000000
END:STANDARD
END:VTIMEZONE
BEGIN:VEVENT
DTSTART;TZID=UTC:20211130T080000
DTEND;TZID=UTC:20211130T170000
DTSTAMP:20260419T211027
CREATED:20190308T232119Z
LAST-MODIFIED:20190308T232119Z
UID:83-1638259200-1638291600@rkvvidyamandir.org
SUMMARY:Digital Transformation Conference
DESCRIPTION:The Digital Transformation Conference brings together leaders spearheading digital initiatives in their organizations to offer insights into their digital transformation journey’s. \nJoin digital business leaders as the event returns to Boston early 2019 to navigate digital transformation with an agenda packed full of presentations\, fireside chats\, panel discussions & networking opportunities. \nThe Digital Transformation Conference brings together leaders spearheading digital initiatives in their organizations to offer insights into their digital transformation journey’s. \nJoin digital business leaders as the event returns to Boston early 2019 to navigate digital transformation with an agenda packed full of presentations\, fireside chats\, panel discussions & networking opportunities.
URL:https://rkvvidyamandir.org/event/digital-transformation-conference/
ATTACH;FMTTYPE=image/jpeg:https://rkvvidyamandir.org/wp-content/uploads/2019/03/ev6-5-4.jpg
ORGANIZER;CN="Barney%20Stinson":MAILTO:info@yourmail.com
END:VEVENT
END:VCALENDAR